Workbook

Sheet Descrizione
A1: Valutazione intervento di demolizione e ricostruzione edificio uso residenziale
A2: DESCRIZIONE INVESTIMENTO
B4: Dimensioni | C4: Fonte
A5: Superficie lotto (mq) | B5: 2830 | C5: Agenzia entrate
A6: Indice fondiario (mc/mq) | B6: 1 | C6: PRG
A7: Volume edificabile (mc) | B7: =+B6*B5 -> 2830
A8: Altezza interpiano (ml) | B8: 3 | C8: PRG
A9: Altezza massima (ml) | B9: 7 | C9: PRG
A10: Piani fuori terra | B10: 2 | C10: PRG
A11: Superficie residenziale SR (mq) | B11: =+B7/B8 -> 943.33333
A12: Superficie non residenziale (mq) | B12: =+B15 -> 471.66667 | C12: Progetto
A13: Coefficiente di ponderazione SNR | B13: 0.5 | C13: Prassi catastale
A14: Superficie commerciale SNR | B14: =+B13*B12 -> 235.83333
A15: Superficie in pianta (mq) | B15: =+B11/B10 -> 471.66667
A16: Superficie scoperta (mq) | B16: =+B5-B15 -> 2358.3333
A17: Coefficiente ponderazione scoperto SR | B17: 0.1 | C17: Prassi catastale
A18: Superficie commerciale scoperto SR | B18: =+B17*B11 -> 94.333333
A19: Coefficiente pond. scoperto > SR | B19: 0.02 | C19: Prassi catastale
A20: Superficie commerciale scoperto > SR | B20: =+(B16-B11)*B19 -> 28.3
A21: Superficie commerciale totale (mq) | B21: =+B11+B14+B18+B20 -> 1301.8

Sheet Fiscalità e Finanza
A1: Valutazione intervento di demolizione e ricostruzione edificio uso residenziale
A2: ASPETTI FISCALI E FINANZIARI
A5: Struttura finanziaria
A6: Capitale a debito | B6: 0.3
A7: Tasso interesse passivo (TAN) | B7: 0.07
A8: Tasso interesse attivo (TAN) | B8: 0.005
A11: Tassazione
A12: Tasse sugli utili | B12: 0.24
A13: IRAP | B13: 0.039
A15: Tasso di sconto
A17: Il costo del capitale proprio (ke) | B17: CAPM | C17: PAM
A18: Rendimento lordo risk free (rf) | B18: 0.03 | C18: 0.03 | D18: Rendistato
A19: Rendimento lordo mercato (rm) | B19: 0.09 | C19: 0.06
A20: Beta | B20: 0.54 | D20: Damoradam
A21: Rischio specifico | B21: 0.026
A22: Costo capitale proprio nominale | B22: =+B18+B20*(B19-B18)+B21 -> 0.0884 | C22: =+C19+C18 -> 0.09
A23: Media costo capitale proprio nominale | B23: =AVERAGE(B22:C22) -> 0.0892
A24: Tasso inflazione | B24: 0.025
A25: Costo capitale proprio reale | B25: =+(1+B23)/(1+B24)-1 -> 0.062634146
A27: Il costo del capitale a debito (kd) | B27: Importi
A28: Tasso interesse bancario | B28: 0.07
A29: Tassazione | B29: =+B12+B13 -> 0.279
A30: Costo del capitale a debito | B30: =+B28*(1-B29) -> 0.05047
A31: Tasso inflazione | B31: 0.025
A32: Costo del capitale a debito reale annuo | B32: =+(1+B30)/(1+B31)-1 -> 0.02484878
A34: Il costo medio ponderato del capitale (WACC) | B34: Importi
A35: Capitale debito | B35: 0.3
A36: Costo del capitale a debito reale annuo | B36: =+B32 -> 0.02484878
A37: Capitale proprio | B37: =1-B35 -> 0.7
A38: Costo reale del capitale proprio | B38: =+B25 -> 0.062634146
A39: Costo medio ponderato reale | B39: =+B38*B37+B36*B35 -> 0.051298537

Sheet Ca - Costo area
A1: Ca - Costo area
B2: Importo | C2: Aliquote | D2: Fonte
A3: Superfice area (mq) | B3: =+Descrizione!B5 -> 2830
A4: Volume edificabile | B4: =+Descrizione!B7 -> 2830
A5: Valore unitario (€/mc) | B5: =AVERAGE(F20,B33) -> 108.28472 | D5: Media stime CDM e IA
A6: Valore totale (€) | B6: =+B5*B4 -> 306445.76
A7: Costo demolizione fabbricato (€) | B7: =+'Cc - Costo costruzione'!D4 -> 22080
A8: Valore di mercato (€) | B8: =+B6-B7 -> 284365.76
A9: Spese intermediario (€) | B9: =+B8*C9 -> 5687.3153 | C9: 0.02 | D9: Prassi locale
A10: Spese notarili (€) | B10: =+C10*B8 -> 2843.6576 | C10: 0.01 | D10: Media parcelle
A11: Imposte (€) | B11: =+C11*B8 -> 11374.631 | C11: 0.04 | D11: Agenzia Entrate
A12: S1 - Acquisizione area (€) | B12: =SUM(B8:B11) -> 304271.37
A15: Comparazione diretta monoparametrica
A16: Aree simili compravendute di recente | B16: Superficie (mq) | C16: Indice fondiario (mc/mq) | D16: Volume edificabile (mc) | E16: Prezzo (€) | F16: Prezzo unitario (€/mc)
A17: Via Verdi | B17: 2500 | C17: 1.5 | D17: =+C17*B17 -> 3750 | E17: 400000 | F17: =+E17/D17 -> 106.66667
A18: Via Malcanton | B18: 2000 | C18: 1 | D18: =+C18*B18 -> 2000 | E18: 200000 | F18: =+E18/D18 -> 100
A19: Via Castellana | B19: 3000 | C19: 1 | D19: =+C19*B19 -> 3000 | E19: 320000 | F19: =+E19/D19 -> 106.66667
E20: Media | F20: =AVERAGE(F17:F19) -> 104.44444
A23: Incidenza area
B24: Valori | C24: Fonte
A25: Valore mercato abitazioni nuove ordinarie (€/mq) | B25: 2500 | C25: Mercato immobiliare/OMI
A26: Superfice area (mq) | B26: =+B3 -> 2830
A27: =+A4 -> Volume edificabile | B27: =+B4 -> 2830
A28: Superficie commerciale edificabile (mq) | B28: =+Descrizione!B21 -> 1301.8
A29: Valore ordinariamente costruibile (€) | B29: =+B28*B25 -> 3254500
A30: Incidenza area | B30: 0.15 | C30: Consulente immobiliare
A31: Coefficiente area inedeficata | B31: 0.65 | C31: Consulente immobiliare
A32: Valore totale area (€) | B32: =+B29*B30*B31 -> 317313.75
A33: Valore unitario area (€/mc) | B33: =+B32/B27 -> 112.125

Sheet Cc - Costo costruzione
A1: CC - Costo di costruzione | I1: Indici CC
A3: Componente | B3: Dimensioni (mc/mq) | C3: Costo unitario (€/mc-mq) | D3: Costo totale (€) | E3: Fonte
A4: Cc1 - Demolizioni (mc) | B4: =3*184*2 -> 1104 | C4: 20 | D4: =+C4*B4 -> 22080 | E4: Mercato costruzioni
A5: Cc2 - Opere urbanizzazione (mq) | B5: =+Descrizione!B16 -> 2358.3333 | C5: 0 | D5: =+C5*B5 -> 0 | E5: Mercato costruzioni
A6: Cc3 - Residenze (mq) | B6: =+Descrizione!B11 -> 943.33333 | C6: =AVERAGE(F18,E46) -> 1761.1192 | D6: =+C6*B6 -> 1661322.4 | E6: Media stime CC
A7: Cc4 - Autorimesse/cantine (mq) | B7: =+Descrizione!B12 -> 471.66667 | C7: =+C6*0.5 -> 880.55958 | D7: =+C7*B7 -> 415330.6 | E7: 50% Cc3
C8: Totale | D8: =SUM(D4:D7) -> 2098733
A13: Stima per comparazione diretta
A14: Edifici simili costruiti di recente | B14: Anno di costruzione | C14: Costo di costruzione (€/mq) | D14: Is | E14: Ia (2026) | F14: Costo di costruzione attuale (€/mq)
A15: Condominio Draganziolo | B15: 2018 | C15: 1400 | D15: =+J24 -> 95.2 | E15: 121.31 | F15: =+C15*E15/D15 -> 1783.9706
A16: Residence Rio Bianco | B16: 2017 | C16: 1300 | D16: =+J23 -> 93.9 | E16: =+E15 -> 121.31 | F16: =+C16*E16/D16 -> 1679.4782
A17: Residenza Boscalto | B17: 2019 | C17: 1500 | D17: =+J25 -> 95.7 | E17: =+E16 -> 121.31 | F17: =+C17*E17/D17 -> 1901.4107
A18: Costo unitario medio attuale (€/mq) | F18: =AVERAGE(F15:F17) -> 1788.2865
A20: Stima per elementi funzionali | I20: Anno | J20: Indice ISTAT
A21: Elementi funzionali | B21: Immobile costruito | D21: Immobile da costruire | I21: 2015 | J21: 93.1
B22: Costo noto (€) | C22: Pf | D22: Cf | E22: Pf*Cf | I22: 2016 | J22: 93.4
A23: Scavi e movimenti di terra | B23: 90330 | C23: =+B23/B$41 -> 0.025140593 | D23: 1.2 | E23: =+D23*C23 -> 0.030168712 | I23: 2017 | J23: 93.9
A24: Sondaggi e diaframmi | B24: 108230 | C24: =+B24/B$41 -> 0.030122511 | D24: 1.2 | E24: =+D24*C24 -> 0.036147013 | I24: 2018 | J24: 95.2
A25: Fondazioni | B25: 112068 | C25: =+B25/B$41 -> 0.031190701 | D25: 1.2 | E25: =+D25*C25 -> 0.037428841 | I25: 2019 | J25: 95.7
A26: Strutture c.a. | B26: 708547 | C26: =+B26/B$41 -> 0.19720239 | D26: 1 | E26: =+D26*C26 -> 0.19720239 | I26: 2020 | J26: 96.2
A27: Murature e tavolati | B27: 286217 | C27: =+B27/B$41 -> 0.079659749 | D27: 1 | E27: =+D27*C27 -> 0.079659749 | I27: 2021 | J27: 108
A28: Vespai, sottofondi e pavimenti | B28: 259002 | C28: =+B28/B$41 -> 0.072085286 | D28: 1 | E28: =+D28*C28 -> 0.072085286 | I28: 2022 | J28: 111.93
A29: Opere in pietra | B29: 50216 | C29: =+B29/B$41 -> 0.013976088 | D29: 1 | E29: =+D29*C29 -> 0.013976088 | I29: 2023 | J29: 114.15
A30: Rivestimenti e zoccolini | B30: 254238 | C30: =+B30/B$41 -> 0.070759372 | D30: 1 | E30: =+D30*C30 -> 0.070759372 | I30: 2024 | J30: 114.15
A31: Intonaci e tinteggiature | B31: 214892 | C31: =+B31/B$41 -> 0.059808616 | D31: 1 | E31: =+D31*C31 -> 0.059808616 | I31: 2025 | J31: 116.2
A32: Canne e fognature | B32: 71057 | C32: =+B32/B$41 -> 0.019776543 | D32: 1 | E32: =+D32*C32 -> 0.019776543 | I32: 2026 | J32: 121.3
A33: Coibentazione | B33: 75093 | C33: =+B33/B$41 -> 0.02089984 | D33: 1.2 | E33: =+D33*C33 -> 0.025079808
A34: Impermeabilizzazioni e copertura | B34: 84818 | C34: =+B34/B$41 -> 0.023606496 | D34: 1.4 | E34: =+D34*C34 -> 0.033049095
A35: Opere e serramenti e lattonerie | B35: 267525 | C35: =+B35/B$41 -> 0.074457402 | D35: 1.3 | E35: =+D35*C35 -> 0.096794623
A36: Serramenti in legno | B36: 305635 | C36: =+B36/B$41 -> 0.085064155 | D36: 1.25 | E36: =+D36*C36 -> 0.10633019
A37: Impianto di climatizzazione | B37: 190845 | C37: =+B37/B$41 -> 0.053115869 | D37: 1.3 | E37: =+D37*C37 -> 0.06905063
A38: Impianto idrosanitario | B38: 138343 | C38: =+B38/B$41 -> 0.038503543 | D38: 1.3 | E38: =+D38*C38 -> 0.050054606
A39: Impianto elettrico | B39: 243870 | C39: =+B39/B$41 -> 0.067873757 | D39: 1.3 | E39: =+D39*C39 -> 0.088235883
A40: Impianto ascensori | B40: 132068 | C40: =+B40/B$41 -> 0.036757089 | D40: 1.2 | E40: =+D40*C40 -> 0.044108507
A41: Somma | B41: =SUM(B23:B40) -> 3592994 | C41: =SUM(C23:C40) -> 1 | E41: =SUM(E23:E40) -> 1.129716
A42: Superficie (mq) | B42: 3050 | D42: Costo
A43: Costo unitario storico (€/mq) | B43: =+B41/B42 -> 1178.0308 | D43: Aggiustato | E43: =+B43*E41 -> 1330.8402
A44: Anno | B44: 2015 | E44: 2026
A45: Indice ISTAT | B45: =+J21 -> 93.1 | E45: =+J32 -> 121.3
A46: Costo aggiustato unitario attuale (€/mq) | E46: =+E43*E45/B45 -> 1733.9519

Sheet On - Oneri concessori
A1: On - Oneri concessori
A3: Oneri | B3: Volume residenziale di progetto (mc) | C3: Volume residenziale preesistente (mc) | D3: Nuova volumetria (mc) | E3: Tariffa (€/mc) | F3: Totale (€)
A4: Urbanizzazione primaria | B4: =+'Ca - Costo area'!B3 -> 2830 | C4: =3*184 -> 552 | D4: =+B4-C4 -> 2278 | E4: 14.61 | F4: =+E4*D4 -> 33281.58
A5: Urbanizzazione secondaria | B5: =+B4 -> 2830 | C5: =3*184 -> 552 | D5: =+B5-C5 -> 2278 | E5: 21.27 | F5: =+E5*D5 -> 48453.06
A7: Contributo costo costruzione | B7: Dimensioni (mq) | C7: Costo unitario (€/mq) | D7: Costo totale (€) | E7: Aliquota | F7: Contributo (€)
A8: Superficie residenziale | B8: =+Descrizione!B11 -> 943.33333
A9: Superficie non residenziale (peso 0,6) | B9: =+Descrizione!B12 -> 471.66667
A10: Superficie equivalente | B10: =+B8+B9*0.6 -> 1226.3333 | C10: 260 | D10: =+C10*B10 -> 318846.67 | E10: 0.07 | F10: =+E10*D10 -> 22319.267
A13: Riepilogo oneri | B13: Importo (€)
A14: =+A4 -> Urbanizzazione primaria | B14: =IF(F4>'Cc - Costo costruzione'!D5,'On - Oneri concessori'!F4,0) -> 33281.58
A15: =+A5 -> Urbanizzazione secondaria | B15: =+F5 -> 48453.06
A16: =+A7 -> Contributo costo costruzione | B16: =+F10 -> 22319.267
A17: Totale | B17: =SUM(B14:B16) -> 104053.91
A20: Calcolati come da norma di legge e parametri comunali

Sheet St - Spese tecniche
A1: St - Spese tecniche
A3: Voce | B3: Importo CC (€) | C3: Aliquota | D3: Importo (€)
A4: =+'Cc - Costo costruzione'!A4 -> Cc1 - Demolizioni (mc) | B4: =+'Cc - Costo costruzione'!D4 -> 22080 | C4: 0 | D4: =+C4*B4 -> 0
A5: =+'Cc - Costo costruzione'!A5 -> Cc2 - Opere urbanizzazione (mq) | B5: =+'Cc - Costo costruzione'!D5 -> 0 | C5: 0.07 | D5: =+C5*B5 -> 0
A6: =+'Cc - Costo costruzione'!A6 -> Cc3 - Residenze (mq) | B6: =+'Cc - Costo costruzione'!D6 -> 1661322.4 | C6: 0.07 | D6: =+C6*B6 -> 116292.57
A7: =+'Cc - Costo costruzione'!A7 -> Cc4 - Autorimesse/cantine (mq) | B7: =+'Cc - Costo costruzione'!D7 -> 415330.6 | C7: 0.07 | D7: =+C7*B7 -> 29073.142
C8: Totale | D8: =SUM(D4:D7) -> 145365.71
A10: Aliquote stimate in base alla complessità progettuale ed esecutiva

Sheet Sg - Spese generali
A1: Sg - Spese generali
A3: Voce | B3: Importo (€)
A4: Cc - Costo costruzione | B4: =+'Cc - Costo costruzione'!D8 -> 2098733
A5: St - Spese tecniche | B5: =+'St - Spese tecniche'!D8 -> 145365.71
A6: Totale | B6: =SUM(B4:B5) -> 2244098.7
A7: Aliquota | B7: 0.03
A8: Importo (€) | B8: =+B6*B7 -> 67322.962

Sheet RT - Ricavi totali
A1: RT - Ricavi totali
B2: Quantità (mq) | C2: Valore unitario (€/mq) | D2: Totale (€)
A3: Superficie commerciale | B3: =+Descrizione!B21 -> 1301.8 | C3: =+C55 -> 2553.6656 | D3: =+C3*B3 -> 3324361.9
B4: Totale | D4: =SUM(D3:D3) -> 3324361.9
A6: Tabella dei dati
A7: Parametri | B7: Immobile da stimare | C7: Immobili simili
C8: 1 | D8: 2 | E8: 3 | F8: 4
A9: Prezzo | B9: ? | C9: 300000 | D9: 400000 | E9: 350000 | F9: 200000
A10: Superficie residenziale (mq) | B10: 95 | C10: 138 | D10: 170 | E10: 168 | F10: 90
A11: Prezzo unitario | C11: =+C9/C10 -> 2173.913 | D11: =+D9/D10 -> 2352.9412 | E11: =+E9/E10 -> 2083.3333 | F11: =+F9/F10 -> 2222.2222
A12: Finiture | B12: Ottime | C12: Buone | D12: Buone | E12: Normali | F12: Buone
A13: Stato di conservazione | B13: Nuovo | C13: Nuovo | D13: Nuovo | E13: Nuovo | F13: Nuovo
A14: Orto/giardino esclusivo (mq) | B14: 50 | C14: 100 | D14: 0 | E14: 200 | F14: 0
A15: Garage/Cantina (mq) | B15: 30 | C15: 20 | D15: 20 | E15: 40 | F15: 40
A16: Classe energetica (n. A) | B16: 3 | C16: 2 | D16: 3 | E16: 4 | F16: 2
A17: Climatizzazione centralizzata | B17: SI | C17: SI | D17: SI | E17: SI | F17: NO
A18: Localizzazione | B18: Periferia | C18: Periferia | D18: Semiperiferia | E18: Periferia | F18: Periferia
A20: Tabella degli aggiustamenti
A21: Parametri | B21: Immobili simili
B22: 1 | C22: 2 | D22: 3 | E22: 4
A23: Superficie equivalente (mq) | B23: =+$B$10-C10 -> -43 | C23: =+$B$10-D10 -> -75 | D23: =+$B$10-E10 -> -73 | E23: =+$B$10-F10 -> 5
A24: Finiture | B24: da Buone a Ottime | C24: da Buone a Ottime | D24: da Normali a Ottime | E24: da Buone a Ottime
A25: =+A16 -> Classe energetica (n. A) | B25: =+$B$16-C16 -> 1 | C25: =+$B$16-D16 -> 0 | D25: =+$B$16-E16 -> -1 | E25: =+$B$16-F16 -> 1
A26: =+A17 -> Climatizzazione centralizzata | B26: 0 | C26: 0 | D26: 1 | E26: 1
A27: Localizzazione | B27: 0 | C27: da Semiperiferia a Periferia | D27: 0 | E27: 0
A29: Prezzi marginali
A30: Parametri | B30: Importo | C30: Unità di misura | D30: Fonte
A31: Superficie equivalente | B31: =AVERAGE(C11:F11) -> 2208.1024 | C31: €/mq | D31: Media valori comparabili
A32: Finiture
A33: . da Normali a Buone | B33: 300 | C33: €/mq | D33: Costo di produzione delle finiture
A34: .da Buone a Ottime | B34: 300 | C34: €/mq | D34: Costo di produzione delle finiture
A35: Classe energetica (n. A) | B35: 60 | C35: €/ mq per cambio di classe | D35: Letteratura specialistica
A36: Climatizzazione centralizzata | B36: 100 | C36: €/mq | D36: Costo di realizzazione
A37: Localizzazione
A38: . da Periferia a Semiperiferia | B38: 300 | C38: €/mq | D38: Mercato immobiliare
A43: Tabella di valutazione
A44: Parametri | B44: Immobili simili
B45: 1 | C45: 2 | D45: 3 | E45: 4
A46: =+A11 -> Prezzo unitario | B46: =+C9 -> 300000 | C46: =+D9 -> 400000 | D46: =+E9 -> 350000 | E46: =+F9 -> 200000
A47: Superficie | B47: =+$B$31*B23 -> -94948.405 | C47: =+$B$31*C23 -> -165607.68 | D47: =+$B$31*D23 -> -161191.48 | E47: =+$B$31*E23 -> 11040.512
...

Sheet Ricavi da Locazione
A1: STIMA PER CAPITALIZZAZIONE DEL REDDITO
A3: DATI DI INPUT | F3: CALCOLO DEL REDDITO NETTO DA LOCAZIONE
A4: Parametri | B4: Importi | C4: Note | H4: Importi (€)
A5: Dimensioni (SC mq) | B5: 95 | C5: Da progetto | F5: RICAVI
A6: Canone mensile (€/mq/mese) | B6: 9.5 | C6: Mercato locale | F6: Canone annuo locazione | H6: =+B7*12 -> 10830
A7: Canone mensile anticipato | B7: =+B6*B5 -> 902.5 | F7: Interessi su canoni anticipati | H7: =+B7*6.5*B9 -> 58.6625
A8: Cauzione anticipata | B8: =+B7*3 -> 2707.5 | C8: Massimo tre canoni | F8: Interessi su cauzione | H8: =+B8*(B9-B10) -> 24.3675
A9: Tasso Interesse attivo | B9: 0.01 | C9: Cauzione | F9: Reddito padronale lordo | H9: =SUM(H6:H8) -> 10913.03
A10: Tasso interesse legale | B10: 0.001 | C10: Cauzione
A11: Tasso interesse passivo | B11: 0.03 | C11: Spese annue antipate (Sa,Qa,Qm, Imp. Loc.) | F11: SPESE
A12: Spese amministrazione | B12: 0.02 | C12: Canone annuo | F12: Spese amministrazione | H12: =H6*B12 -> 216.6
A13: Quota sfitto | B13: 0.02 | C13: Canone annuo | F13: Quote | G13: Assicurazione | H13: =H6*B15 -> 162.45
A14: Quota inesigibilità | B14: 0.01 | C14: Canone annuo | G14: Reintegrazione | H14: =H6*B17 -> 1083
A15: Quota assicurazione | B15: 0.015 | C15: Canone annuo | G15: Manutenzione | H15: =H6*B16 -> 108.3
A16: Quota manutenzione | B16: 0.01 | C16: Canone annuo | F16: Imposte | G16: Locali | H16: =H6*B19 -> 1083
A17: Quota reintegrazione | B17: 0.1 | C17: Canone annuo | G17: Reddito | H17: =H6*B18 -> 2274.3
A18: Imposte sul reddito | B18: 0.21 | C18: Canone annuo/Cedolare secca | F18: Improduttività | G18: Sfitto | H18: =+H6*B13 -> 216.6
A19: Imposte locali TASI/IMU | B19: 0.1 | C19: Canone annuo | G19: Inesigibilità | H19: =+H6*B14 -> 108.3
F20: Interessi su anticipazioni | H20: =+B11*(H16+H13+H12+H15)/2 -> 23.55525
A21: CALCOLO DEL SAGGIO MEDIO DI CAPITALIZZAZIONE | F21: Spese totali | H21: =SUM(H12:H20) -> 5276.1053
B22: Importi | C22: Note | F22: REDDITO NETTO | H22: =+H9-H21 -> 5636.9248
A23: Canone (€/mese/mq) | B23: =+B6 -> 9.5 | C23: Mercato locale | H23: =+H22/H6 -> 0.52049167
A24: Canone (€/anno/mq) | B24: =+B23*12 -> 114
A25: Valore (€/mq) | B25: 2550 | C25: Mercato locale
A26: Rendimento lordo | B26: =+B24/B25 -> 0.044705882
A27: Quota reddito netto | B27: =+H23 -> 0.52049167 | C27: Bilancio da locazione ordinario
A28: SAGGIO DI CAPITALIZZAZIONE | B28: =+B26*B27 -> 0.023269039
A32: CALCOLO DEL VALORE DI CAPITALIZZAZIONE/MERCATO
A33: REDDITO NETTO | B33: =+H22 -> 5636.9248
A34: SAGGIO DI CAPITALIZZAZIONE | B34: =+B28 -> 0.023269039
A35: VALORE DI MERCATO | B35: =+B33/B34 -> 242250
A36: VALORE DI MERCATO (€/mq) | B36: =+B35/B5 -> 2550

Sheet Sc - Spese commercializzazione
A1: Sc - Spese commercializzazione
C3: Importi
A4: RT | B4: Ricavo totale | C4: =+'RT - Ricavi totali'!D3 -> 3324361.9
B5: Aliquota | C5: 0.03
B6: Totale spese | C6: =+C5*C4 -> 99730.858

Sheet I - Interessi
A1: I - Interessi
B3: ANNO | G3: Totale
B4: 0 | C4: 1 | D4: 2 | E4: 3 | F4: 4
A5: FE - Flusso economico | B5: =+'Flusso di cassa'!C18 -> -304271.37 | C5: =+'Flusso di cassa'!D18 -> -74769.353 | D5: =+'Flusso di cassa'!E18 -> -457845.2 | E5: =+'Flusso di cassa'!F18 -> 418106.3 | F5: =+'Flusso di cassa'!G18 -> 923663.75 | G5: =SUM(B5:F5) -> 504884.12
A6: Esposizione/Int. Passivi | B6: =+B5 -> -304271.37 | C6: =+B6+C5+B8 -> -385430.42 | D6: =+C6+D5+C8 -> -851369.66 | E6: =+D6+E5+D8 -> -451142.13 | F6: =+E6+F5+E8 -> 463047.63
B7: =+B6*'Fiscalità e Finanza'!$B$6*'Fiscalità e Finanza'!$B$7 -> -6389.6987 | C7: =+C6*'Fiscalità e Finanza'!$B$6*'Fiscalità e Finanza'!$B$7 -> -8094.0388 | D7: =+D6*'Fiscalità e Finanza'!$B$6*'Fiscalità e Finanza'!$B$7 -> -17878.763 | E7: =+E6*'Fiscalità e Finanza'!$B$6*'Fiscalità e Finanza'!$B$7 -> -9473.9847 | F7: =+F6*'Fiscalità e Finanza'!$B$6*'Fiscalità e Finanza'!$B$7 -> 9724.0003
A8: Interessi passivi | B8: =IF(B6<0,B7,0) -> -6389.6987 | C8: =IF(C6<0,C7,0) -> -8094.0388 | D8: =IF(D6<0,D7,0) -> -17878.763 | E8: =IF(E6<0,E7,0) -> -9473.9847 | F8: =IF(F6<0,F7,0) -> 0 | G8: =SUM(B8:F8) -> -41836.485
A9: Esposizione/Int. Attivi | B9: =IF(B6<0,B6,B9+B10) -> -304271.37 | C9: =IF(C6<0,C6,+B9+C5+B11) -> -385430.42 | D9: =IF(D6<0,D6,+C9+D5+C11) -> -851369.66 | E9: =IF(E6<0,E6,+D9+E5+D11) -> -451142.13 | F9: =IF(F6<0,F6,+E9+F5+E11) -> 472521.62
B10: =+B9*'Fiscalità e Finanza'!$B$8 -> -1521.3568 | C10: =+C9*'Fiscalità e Finanza'!$B$8 -> -1927.1521 | D10: =+D9*'Fiscalità e Finanza'!$B$8 -> -4256.8483 | E10: =+E9*'Fiscalità e Finanza'!$B$8 -> -2255.7106 | F10: =+F9*'Fiscalità e Finanza'!$B$8 -> 2362.6081
A11: Interessi attivi | B11: =IF(B9>0,B10,0) -> 0 | C11: =IF(C9>0,C10,0) -> 0 | D11: =IF(D9>0,D10,0) -> 0 | E11: =IF(E9>0,E10,0) -> 0 | F11: =IF(F9>0,F10,0) -> 2362.6081 | G11: =SUM(B11:F11) -> 2362.6081
A12: Interessi | B12: =+B8+B11 -> -6389.6987 | C12: =+C8+C11 -> -8094.0388 | D12: =+D8+D11 -> -17878.763 | E12: =+E8+E11 -> -9473.9847 | F12: =+F8+F11 -> 2362.6081 | G12: =SUM(B12:F12) -> -39473.877
B14: =+B4 -> 0 | C14: =+C4 -> 1 | D14: =+D4 -> 2 | E14: =+E4 -> 3 | F14: =+F4 -> 4
A15: FLUSSO CASSA FINANZIARIO | B15: =+B5+B12 -> -310661.07 | C15: =+C5+C12 -> -82863.392 | D15: =+D5+D12 -> -475723.96 | E15: =+E5+E12 -> 408632.31 | F15: =+F5+F12 -> 926026.35 | G15: =SUM(B15:F15) -> 465410.24
A16: ESPOSIZIONE FINANZIARIA | B16: =SUM(B15:B15) -> -310661.07 | C16: =SUM(B15:C15) -> -393524.46 | D16: =SUM(B15:D15) -> -869248.42 | E16: =SUM(B15:E15) -> -460616.11 | F16: =SUM(B15:F15) -> 465410.24

Sheet T - Tasse
A1: T - Tasse
B3: ANNO
B4: 0 | C4: 1 | D4: 2 | E4: 3 | F4: 4
A5: Esposizione finanziaria | B5: =+'I - Interessi'!B16 -> -310661.07 | C5: =+'I - Interessi'!C16 -> -393524.46 | D5: =+'I - Interessi'!D16 -> -869248.42 | E5: =+'I - Interessi'!E16 -> -460616.11 | F5: =+'I - Interessi'!F16 -> 465410.24
B6: =IF(B5>0,B5,0) -> 0 | C6: =IF(C5>0,C5,0) -> 0 | D6: =IF(D5>0,D5,0) -> 0 | E6: =IF(E5>0,E5,0) -> 0 | F6: =IF(F5>0,F5,0) -> 465410.24
A7: Imponibile | B7: =+B6 -> 0 | C7: =+C6-B6 -> 0 | D7: =+D6-C6 -> 0 | E7: =+E6-D6 -> 0 | F7: =+F6-E6 -> 465410.24
A8: Tasse | B8: =+B7*('Fiscalità e Finanza'!$B$12+'Fiscalità e Finanza'!$B$13) -> 0 | C8: =+C7*('Fiscalità e Finanza'!$B$12+'Fiscalità e Finanza'!$B$13) -> 0 | D8: =+D7*('Fiscalità e Finanza'!$B$12+'Fiscalità e Finanza'!$B$13) -> 0 | E8: =+E7*('Fiscalità e Finanza'!$B$12+'Fiscalità e Finanza'!$B$13) -> 0 | F8: =+F7*('Fiscalità e Finanza'!$B$12+'Fiscalità e Finanza'!$B$13) -> 129849.46

Sheet Distribuzione Costi&Ricavi
C2: Anno | H2: Totale
C3: 0 | D3: 1 | E3: 2 | F3: 3 | G3: 4
A4: Ca | B4: Acquisizione area | C4: 1 | H4: =SUM(C4:G4) -> 1
A5: On | B5: Oneri concessori | D5: 0.5 | E5: 0.5 | H5: =SUM(C5:G5) -> 1
A6: Cc - Costo Costruzione
A7: Cc1 | B7: . Demolizioni | D7: 1 | H7: =SUM(C7:G7) -> 1
A8: Cc2 | B8: . Opere urbanizzazione | E8: 1 | H8: =SUM(C8:G8) -> 1
A9: Cc3 | B9: . Residenze | E9: 0.5 | F9: 0.3 | G9: 0.2 | H9: =SUM(C9:G9) -> 1
A10: Cc4 | B10: . Autorimesse | E10: 1 | H10: =SUM(C10:G10) -> 1
A12: RT | B12: Totale ricavi | D12: 0 | E12: 0.3 | F12: 0.3 | G12: 0.4 | H12: =SUM(C12:G12) -> 1

Sheet Flusso di cassa
C2: ANNO | H2: Totale
C3: 0 | D3: 1 | E3: 2 | F3: 3 | G3: 4
A4: COSTI
A5: Ca | B5: Acquisizione area | C5: =+'Ca - Costo area'!$B$12*'Distribuzione Costi&Ricavi'!C4 -> 304271.37 | D5: =+'Ca - Costo area'!$B$12*'Distribuzione Costi&Ricavi'!D4 -> 0 | E5: =+'Ca - Costo area'!$B$12*'Distribuzione Costi&Ricavi'!E4 -> 0 | F5: =+'Ca - Costo area'!$B$12*'Distribuzione Costi&Ricavi'!F4 -> 0 | G5: =+'Ca - Costo area'!$B$12*'Distribuzione Costi&Ricavi'!G4 -> 0 | H5: =SUM(C5:G5) -> 304271.37
A6: On | B6: Oneri concessori | C6: =+'On - Oneri concessori'!$B$17*'Distribuzione Costi&Ricavi'!C5 -> 0 | D6: =+'On - Oneri concessori'!$B$17*'Distribuzione Costi&Ricavi'!D5 -> 52026.953 | E6: =+'On - Oneri concessori'!$B$17*'Distribuzione Costi&Ricavi'!E5 -> 52026.953 | F6: =+'On - Oneri concessori'!$B$17*'Distribuzione Costi&Ricavi'!F5 -> 0 | G6: =+'On - Oneri concessori'!$B$17*'Distribuzione Costi&Ricavi'!G5 -> 0 | H6: =SUM(C6:G6) -> 104053.91
A7: Cc | B7: Costo costruzione | C7: =SUM(C8:C11) -> 0 | D7: =SUM(D8:D11) -> 22080 | E7: =SUM(E8:E11) -> 1245991.8 | F7: =SUM(F8:F11) -> 498396.72 | G7: =SUM(G8:G11) -> 332264.48 | H7: =SUM(C7:G7) -> 2098733
A8: Cc1 | B8: . Demolizioni | C8: =+'Cc - Costo costruzione'!$D$4*'Distribuzione Costi&Ricavi'!C7 -> 0 | D8: =+'Cc - Costo costruzione'!$D$4*'Distribuzione Costi&Ricavi'!D7 -> 22080 | E8: =+'Cc - Costo costruzione'!$D$4*'Distribuzione Costi&Ricavi'!E7 -> 0 | F8: =+'Cc - Costo costruzione'!$D$4*'Distribuzione Costi&Ricavi'!F7 -> 0 | G8: =+'Cc - Costo costruzione'!$D$4*'Distribuzione Costi&Ricavi'!G7 -> 0 | H8: =SUM(C8:G8) -> 22080
A9: Cc2 | B9: . Opere urbanizzazione | C9: =+'Cc - Costo costruzione'!$D$5*'Distribuzione Costi&Ricavi'!C8 -> 0 | D9: =+'Cc - Costo costruzione'!$D$5*'Distribuzione Costi&Ricavi'!D8 -> 0 | E9: =+'Cc - Costo costruzione'!$D$5*'Distribuzione Costi&Ricavi'!E8 -> 0 | F9: =+'Cc - Costo costruzione'!$D$5*'Distribuzione Costi&Ricavi'!F8 -> 0 | G9: =+'Cc - Costo costruzione'!$D$5*'Distribuzione Costi&Ricavi'!G8 -> 0 | H9: =SUM(C9:G9) -> 0
A10: Cc3 | B10: . Residenze | C10: =+'Cc - Costo costruzione'!$D$6*'Distribuzione Costi&Ricavi'!C9 -> 0 | D10: =+'Cc - Costo costruzione'!$D$6*'Distribuzione Costi&Ricavi'!D9 -> 0 | E10: =+'Cc - Costo costruzione'!$D$6*'Distribuzione Costi&Ricavi'!E9 -> 830661.21 | F10: =+'Cc - Costo costruzione'!$D$6*'Distribuzione Costi&Ricavi'!F9 -> 498396.72 | G10: =+'Cc - Costo costruzione'!$D$6*'Distribuzione Costi&Ricavi'!G9 -> 332264.48 | H10: =SUM(C10:G10) -> 1661322.4
A11: Cc4 | B11: . Autorimesse | C11: =+'Cc - Costo costruzione'!$D$7*'Distribuzione Costi&Ricavi'!C10 -> 0 | D11: =+'Cc - Costo costruzione'!$D$7*'Distribuzione Costi&Ricavi'!D10 -> 0 | E11: =+'Cc - Costo costruzione'!$D$7*'Distribuzione Costi&Ricavi'!E10 -> 415330.6 | F11: =+'Cc - Costo costruzione'!$D$7*'Distribuzione Costi&Ricavi'!F10 -> 0 | G11: =+'Cc - Costo costruzione'!$D$7*'Distribuzione Costi&Ricavi'!G10 -> 0 | H11: =SUM(C11:G11) -> 415330.6
A12: St | B12: Spese tecniche | C12: =+C8*'St - Spese tecniche'!$C4+C9*'St - Spese tecniche'!$C5+'Flusso di cassa'!C10*'St - Spese tecniche'!$C6+'Flusso di cassa'!C11*'St - Spese tecniche'!$C7 -> 0 | D12: =+D8*'St - Spese tecniche'!$C4+D9*'St - Spese tecniche'!$C5+'Flusso di cassa'!D10*'St - Spese tecniche'!$C6+'Flusso di cassa'!D11*'St - Spese tecniche'!$C7 -> 0 | E12: =+E8*'St - Spese tecniche'!$C4+E9*'St - Spese tecniche'!$C5+'Flusso di cassa'!E10*'St - Spese tecniche'!$C6+'Flusso di cassa'!E11*'St - Spese tecniche'!$C7 -> 87219.427 | F12: =+F8*'St - Spese tecniche'!$C4+F9*'St - Spese tecniche'!$C5+'Flusso di cassa'!F10*'St - Spese tecniche'!$C6+'Flusso di cassa'!F11*'St - Spese tecniche'!$C7 -> 34887.771 | G12: =+G8*'St - Spese tecniche'!$C4+G9*'St - Spese tecniche'!$C5+'Flusso di cassa'!G10*'St - Spese tecniche'!$C6+'Flusso di cassa'!G11*'St - Spese tecniche'!$C7 -> 23258.514 | H12: =SUM(C12:G12) -> 145365.71
A13: Sg | B13: Spese generali | C13: =+'Sg - Spese generali'!$B$7*('Flusso di cassa'!C7+'Flusso di cassa'!C12) -> 0 | D13: =+'Sg - Spese generali'!$B$7*('Flusso di cassa'!D7+'Flusso di cassa'!D12) -> 662.4 | E13: =+'Sg - Spese generali'!$B$7*('Flusso di cassa'!E7+'Flusso di cassa'!E12) -> 39996.337 | F13: =+'Sg - Spese generali'!$B$7*('Flusso di cassa'!F7+'Flusso di cassa'!F12) -> 15998.535 | G13: =+'Sg - Spese generali'!$B$7*('Flusso di cassa'!G7+'Flusso di cassa'!G12) -> 10665.69 | H13: =SUM(C13:G13) -> 67322.962
A14: Sc | B14: Spese commercializzazione | C14: =+C17*'Sc - Spese commercializzazione'!$C$5 -> 0 | D14: =+D17*'Sc - Spese commercializzazione'!$C$5 -> 0 | E14: =+E17*'Sc - Spese commercializzazione'!$C$5 -> 29919.257 | F14: =+F17*'Sc - Spese commercializzazione'!$C$5 -> 29919.257 | G14: =+G17*'Sc - Spese commercializzazione'!$C$5 -> 39892.343 | H14: =SUM(C14:G14) -> 99730.858
A15: CT | B15: Totale costi | C15: =+C13+C14+C7+C6+C12+C5 -> 304271.37 | D15: =+D13+D14+D7+D6+D12+D5 -> 74769.353 | E15: =+E13+E14+E7+E6+E12+E5 -> 1455153.8 | F15: =+F13+F14+F7+F6+F12+F5 -> 579202.29 | G15: =+G13+G14+G7+G6+G12+G5 -> 406081.03 | H15: =SUM(C15:G15) -> 2819477.8
A16: RICAVI
A17: RT | B17: Totale ricavi | C17: =+'RT - Ricavi totali'!$D$3*'Distribuzione Costi&Ricavi'!C12 -> 0 | D17: =+'RT - Ricavi totali'!$D$3*'Distribuzione Costi&Ricavi'!D12 -> 0 | E17: =+'RT - Ricavi totali'!$D$3*'Distribuzione Costi&Ricavi'!E12 -> 997308.58 | F17: =+'RT - Ricavi totali'!$D$3*'Distribuzione Costi&Ricavi'!F12 -> 997308.58 | G17: =+'RT - Ricavi totali'!$D$3*'Distribuzione Costi&Ricavi'!G12 -> 1329744.8 | H17: =SUM(C17:G17) -> 3324361.9
A18: FE | B18: FLUSSO CASSA ECONOMICO | C18: =+C17-C15 -> -304271.37 | D18: =+D17-D15 -> -74769.353 | E18: =+E17-E15 -> -457845.2 | F18: =+F17-F15 -> 418106.3 | G18: =+G17-G15 -> 923663.75 | H18: =+H17-H15 -> 504884.12
C21: ANNO | H21: Totale
C22: 0 | D22: 1 | E22: 2 | F22: 3 | G22: 4
A23: =+A18 -> FE | B23: =+B18 -> FLUSSO CASSA ECONOMICO | C23: =+C18 -> -304271.37 | D23: =+D18 -> -74769.353 | E23: =+E18 -> -457845.2 | F23: =+F18 -> 418106.3 | G23: =+G18 -> 923663.75 | H23: =+H18 -> 504884.12
A24: I | B24: Interessi | C24: =+'I - Interessi'!B12 -> -6389.6987 | D24: =+'I - Interessi'!C12 -> -8094.0388 | E24: =+'I - Interessi'!D12 -> -17878.763 | F24: =+'I - Interessi'!E12 -> -9473.9847 | G24: =+'I - Interessi'!F12 -> 2362.6081 | H24: =SUM(C24:G24) -> -39473.877
A25: FF | B25: FLUSSO CASSA FINANZIARIO | C25: =+C24+C18 -> -310661.07 | D25: =+D24+D18 -> -82863.392 | E25: =+E24+E18 -> -475723.96 | F25: =+F24+F18 -> 408632.31 | G25: =+G24+G18 -> 926026.35 | H25: =SUM(C25:G25) -> 465410.24
A26: T | B26: Tasse | C26: =-'T - Tasse'!B8 -> 0 | D26: =-'T - Tasse'!C8 -> 0 | E26: =-'T - Tasse'!D8 -> 0 | F26: =-'T - Tasse'!E8 -> 0 | G26: =-'T - Tasse'!F8 -> -129849.46 | H26: =SUM(C26:G26) -> -129849.46
A27: FN | B27: FLUSSO CASSA NETTO | C27: =+C25+C26 -> -310661.07 | D27: =+D25+D26 -> -82863.392 | E27: =+E25+E26 -> -475723.96 | F27: =+F25+F26 -> 408632.31 | G27: =+G25+G26 -> 796176.9 | H27: =+H25+H26 -> 335560.78
C29: =+C3 -> 0 | D29: =+D3 -> 1 | E29: =+E3 -> 2 | F29: =+F3 -> 3 | G29: =+G3 -> 4
B30: =+B18 -> FLUSSO CASSA ECONOMICO | C30: =+C18 -> -304271.37 | D30: =+D18 -> -74769.353 | E30: =+E18 -> -457845.2 | F30: =+F18 -> 418106.3 | G30: =+G18 -> 923663.75
B31: =+B27 -> FLUSSO CASSA NETTO | C31: =+C27 -> -310661.07 | D31: =+D27 -> -82863.392 | E31: =+E27 -> -475723.96 | F31: =+F27 -> 408632.31 | G31: =+G27 -> 796176.9
B32: ESPOSIZIONE | C32: =+C31 -> -310661.07 | D32: =+C32+D31 -> -393524.46 | E32: =+D32+E31 -> -869248.42 | F32: =+E32+F31 -> -460616.11 | G32: =+F32+G31 -> 335560.78

Sheet Grafici

Sheet Risultati
A1: Valutazione intervento di demolizione e ricostruzione edificio uso residenziale
A2: RISULTATI
A4: La convenienza dell'investimento
B5: Flusso di cassa economico (WACC) | C5: Flusso di cassa netto (Ke)
A6: Saggio rendimento interno annuo | B6: =IRR('Flusso di cassa'!C18:G18) -> 0.20191299 | C6: =IRR('Flusso di cassa'!C27:G27) -> 0.13869778
A7: Valore attuale netto | B7: =NPV('Fiscalità e Finanza'!B39,'Flusso di cassa'!C18:G18) -> 310421.86 | C7: =NPV('Fiscalità e Finanza'!B25,'Flusso di cassa'!C27:G27) -> 145892.77
A10: COSTI
A11: Acquisizione area | B11: =+'Flusso di cassa'!H5 -> 304271.37
A12: Oneri concessori | B12: =+'Flusso di cassa'!H6 -> 104053.91
A13: Costo costruzione | B13: =+'Flusso di cassa'!H7 -> 2098733
A14: . Demolizioni | B14: =+'Flusso di cassa'!H8 -> 22080
A15: . Opere urbanizzazione | B15: =+'Flusso di cassa'!H9 -> 0
A16: . Residenze | B16: =+'Flusso di cassa'!H10 -> 1661322.4
A17: . Autorimesse | B17: =+'Flusso di cassa'!H11 -> 415330.6
A18: Spese tecniche | B18: =+'Flusso di cassa'!H12 -> 145365.71
A19: Spese generali | B19: =+'Flusso di cassa'!H13 -> 67322.962
A20: Spese commercializzazione | B20: =+'Flusso di cassa'!H14 -> 99730.858
A21: Interessi | B21: =-'Flusso di cassa'!H24 -> 39473.877
A22: Tasse | B22: =-'Flusso di cassa'!H26 -> 129849.46
A23: Totale costi | B23: =+B11+B12+B13+B18+B19+B20+B21+B22 -> 2988801.2
A25: RICAVI | B25: =+'Flusso di cassa'!H17 -> 3324361.9
A27: RICAVI - COSTI | B27: =+B25-B23 -> 335560.78
